BEGIN:VCALENDAR
VERSION:2.0
PRODID:icalendar-ruby
CALSCALE:GREGORIAN
BEGIN:VEVENT
DTSTAMP:20260423T001743Z
UID:9fc7aa20-54c0-46ce-a240-e8f08e26700d
DTSTART;VALUE=DATE:20260422
DTEND;VALUE=DATE:20260426
DESCRIPTION:Apr 20-26\, 2026\nMilan’s RoCollectible 2026 uses the door as
  its organizing principle\, with Rossana Orlandi and Nicoletta Brugnoni in
 viting 19 designers\, artists\, and architects to provide their own interp
 retations. Seventy voices are then woven into an aural chorale that shapes
  the space into an international sound map. Among the new collections\, Ro
 berto Sironi’s Future Memories conjures sculptural objects from timber p
 ulled out of traditional Kominka farmhouses\, while Atelier L’Inconnu’
 s rattan series La Volupté examines the body\, restraint\, and memory.
LOCATION:Galleria Rossana Orlandi\, Via Matteo Bandello 16\, 20123 Milano
SUMMARY:RoCollectible 2026
URL;VALUE=TEXT:https://airmail.news/arts-intel/events/rocollectible-2026
END:VEVENT
END:VCALENDAR
