BEGIN:VCALENDAR
VERSION:2.0
PRODID:icalendar-ruby
CALSCALE:GREGORIAN
BEGIN:VEVENT
DTSTAMP:20260423T111526Z
UID:9d28cf55-cae0-4f1f-81c5-201161b88b97
DTSTART;VALUE=DATE:20260423
DTEND;VALUE=DATE:20260426
DESCRIPTION:Apr 21-26\, 2026\nNilufar\, the Milan gallery that Nina Yashar 
 has built into a keen force in collectible design\, is presenting two exhi
 bitions during this year’s Salone del Mobile. At the Depot on Viale Lanc
 etti\, “Grand Hotel” turns the vast warehouse into an imagined hotel\,
  with rooms designed by David/Nicolas\, Allegra Hicks\, and Filippo Carand
 ini\, and graced with hand-painted de Gournay wallcoverings\, crochet-cove
 red furniture\, and new works by designers who include Bethan Laura Wood a
 nd Andrea Mancuso. At Via della Spiga\, “La Casa Magica\,” curated by 
 Valentina Ciuffi with set design by Space Caviar\, is more unsettling: a c
 hrome bed frame twists out of shape\, a mirror fractures across the wall\,
  and familiar domestic objects made strange.
LOCATION:Various venues
SUMMARY:Nilufar: Salone del Mobile 2026
URL;VALUE=TEXT:https://airmail.news/arts-intel/events/nilufar-milan-design-
 week-2026
END:VEVENT
END:VCALENDAR
