BEGIN:VCALENDAR
VERSION:2.0
PRODID:icalendar-ruby
CALSCALE:GREGORIAN
BEGIN:VEVENT
DTSTAMP:20260422T232119Z
UID:edf87d52-85c6-4680-aeb7-10ac8fa9f079
DTSTART;VALUE=DATE:20260430
DTEND;VALUE=DATE:20260503
DESCRIPTION:Apr 30 - May 3\, 2026\nFor 66 years the Antiquarian Book Fair h
 as served as the premier site for illuminated manuscripts\, memorabilia\, 
 illustrations\, and\, of course\, rare books. Situated at the grand Park A
 venue Armory\, it’s a place to explore pieces of literary history that a
 re usually tucked away. This year’s offerings bring together over 170 ex
 hibitors from around the world. Highlights include a rare atlas owned by Q
 ueen Mary I\, a first edition of The Bluest Eye by Toni Morrison\, and one
  of F. Scott Fitzgerald’s coats. “NYIABF Presents”—the fair’s an
 nual panel series—provides further thought on the rare artifacts. On May
  2\, make sure not to miss the actress and fair ambassador Emma Roberts as
  she discusses the rich literary history of Los Angeles with authors Lili 
 Anolik and Stephanie Danler\, moderated by AIR MAIL’s editor Julia Vital
 e.
LOCATION:Park Avenue Armory\, 643 Park Ave\, New York\, NY 10065\, United S
 tates
SUMMARY:New York International Antiquarian Book Fair
URL;VALUE=TEXT:https://airmail.news/arts-intel/events/new-york-internationa
 l-antiquarian-book-fair-3
END:VEVENT
END:VCALENDAR
