BEGIN:VCALENDAR
VERSION:2.0
PRODID:icalendar-ruby
CALSCALE:GREGORIAN
BEGIN:VEVENT
DTSTAMP:20260420T132346Z
UID:89337582-9e8b-4572-839d-8bf842ffadc8
DTSTART;VALUE=DATE:20260420
DTEND;VALUE=DATE:20260420
DESCRIPTION:Mar 25 - Apr 25\, 2026\nCanvases that curve. Peaches with mouth
 s. Bottle caps as eyes. Arms that are snakes. Mankind’s first garden see
 ms to be the setting for a number of the mixed-media pieces in this show o
 f new works by Miguel Ángel Payano Jr. But it’s a postmodern place\, to
 uched with weirdness. Payano lives between New York and Beijing\, and his 
 heritage is Afro-Caribbean. Multilingual\, he’s interested in language\,
  in the ways we connect through words—or fail to connect. Payano’s pea
 ches\, which we’re told suggest “single celled humans\,” have soft c
 hecks and sometimes an eye within their mouth. It’s all very eerie\, a s
 ort of mashup between the surrealism of Elsa Schiaparelli and the mysticis
 m of Frida Kahlo. The work Autumn Corner (2026) is undeniably beautiful.
LOCATION:Charles Moffett\, 394 Broadway\, Floor 2\, New York\, NY 10013
SUMMARY:Miguel Ángel Payano Jr.: Palate Pivots
URL;VALUE=TEXT:https://airmail.news/arts-intel/events/miguel-angel-payano-j
 r-palate-pivots
END:VEVENT
END:VCALENDAR
