BEGIN:VCALENDAR
VERSION:2.0
PRODID:icalendar-ruby
CALSCALE:GREGORIAN
BEGIN:VEVENT
DTSTAMP:20260421T064012Z
UID:f545a2a6-5f80-49ab-8cf1-2f0f46387ff8
DTSTART;VALUE=DATE:20260421
DTEND;VALUE=DATE:20260421
DESCRIPTION:Apr 15 - Aug 23\, 2026\nMarina Abramović has spent 50 years us
 ing her own body as the primary vessel of her art. She’s endured pain an
 d exhaustion in performances of long duration that have become landmarks o
 f the form. Her practice has always drawn on the folklore and ritual tradi
 tions of the Balkans\, that particular territory of lamentation\, eroticis
 m\, and folk magic in which she grew up. “Balkan Erotic Epic” began in
  2005 as a series of video works rooted in the Balkan folk belief that ero
 tic acts performed in nature—women exposing themselves to the rain\, or 
 men masturbating in the fields—could appease the gods and ensure fertili
 ty and protection. The work treats the body as a site of spiritual meaning
 \, somewhere between prayer and protest. Berlin’s Gropius Bau presents a
 n exhibition of filmic and sculptural installations along with live perfor
 mances.
LOCATION:Gropius Bau\, Niederkirchnerstraße 7\, 10963 Berlin\, Germany
SUMMARY:Marina Abramović: Balkan Erotic Epic
URL;VALUE=TEXT:https://airmail.news/arts-intel/events/marina-abramovic-balk
 an-erotic-epic
END:VEVENT
END:VCALENDAR
