BEGIN:VCALENDAR
VERSION:2.0
PRODID:icalendar-ruby
CALSCALE:GREGORIAN
BEGIN:VEVENT
DTSTAMP:20260425T204837Z
UID:7754a124-f241-40d1-99e0-8587dcaede86
DTSTART;VALUE=DATE:20260425
DTEND;VALUE=DATE:20260426
DESCRIPTION:Apr 21-26\, 2026\n“L’Appartamento by Artemest” is sure to
  be one of the highlights of the 2026 Milan Design. Staged in Milan’s hi
 storic Palazzo Donizetti\, on Via Gaetano Donizetti 48\, the exhibition pa
 ys tribute to Italian craftsmanship and the country’s artistic legacy. T
 his fourth edition of “L’Appartamento by Artemest” enlisted the help
  of five design studios—Charlap Hyman & Herrero\, MAWD | March & White D
 esign\, Rockwell Group\, Sasha Adler Design\, and Urjowan Alsharif Interio
 rs—to transform the palazzo using a selection of Artemest’s handcrafte
 d home decor.
LOCATION:Palazzo Citterio\, Via Brera\, 12\, 20121 Milano MI
SUMMARY:L'Appartamento by Artemest
URL;VALUE=TEXT:https://airmail.news/arts-intel/events/lappartamento-by-arte
 mest
END:VEVENT
END:VCALENDAR
