BEGIN:VCALENDAR
VERSION:2.0
PRODID:icalendar-ruby
CALSCALE:GREGORIAN
BEGIN:VEVENT
DTSTAMP:20260423T130826Z
UID:2776579c-c686-41b4-b2b6-7e6c6a1d9f27
DTSTART;VALUE=DATE:20260423
DTEND;VALUE=DATE:20260426
DESCRIPTION:Apr 22-26\, 2026\nEach year during Milan’s Salone del Mobile\
 , Hermès takes over a space in the city and unveils its new home collecti
 on as if it were an installation. This year\, the setting is La Pelota\, a
  former court for the Basque ball game tucked into the Brera district. The
  new pieces are characteristically confident: a table by Edward Barber and
  Jay Osgerby whose arched form recalls the oval of a racetrack\, inlaid en
 tirely in marble\; a new homeware line in hammered palladium-plated metal 
 combined with leather\, horsehair\, and wood\; and a series of cashmere pl
 aids handwoven in Nepal\, some threaded with linen\, resist-dyed\, and ass
 embled by hand.
LOCATION:La Pelota\, Via Palermo\, 10\, 20121 Milano MI
SUMMARY:Hermès: The Collections for the Home
URL;VALUE=TEXT:https://airmail.news/arts-intel/events/hermes-the-collection
 s-for-the-home
END:VEVENT
END:VCALENDAR
