BEGIN:VCALENDAR
VERSION:2.0
PRODID:icalendar-ruby
CALSCALE:GREGORIAN
BEGIN:VEVENT
DTSTAMP:20260425T181356Z
UID:b6d7992f-7afa-4da6-89ff-9e0695badeb7
DTSTART;VALUE=DATE:20260425
DTEND;VALUE=DATE:20260425
DESCRIPTION:Apr 19 - May 17\, 2026\nHamlet has a long history at the Brookl
 yn Academy of Music\, one that goes back to 1861. Over the years\, auteurs
  such as Ingmar Bergman and Thomas Ostermeier have brought productions to 
 BAM\, daring and different in their approaches to the Danish prince and hi
 s need for vengeance. The director Robert Hastie now comes to BAM with a H
 amlet that stresses comedy. This melancholy prince (Hiran Abeysekera) is n
 ot melancholy\, he’s boisterous and cocky. Launched at the National Thea
 tre\, in London\, the production crosses the Atlantic for a four-week run.
LOCATION:Brooklyn Academy of Music\, 321 Ashland Pl\, Brooklyn\, NY 11217\,
  USA
SUMMARY:Hamlet
URL;VALUE=TEXT:https://airmail.news/arts-intel/events/hamlet-2
END:VEVENT
END:VCALENDAR
