BEGIN:VCALENDAR
VERSION:2.0
PRODID:icalendar-ruby
CALSCALE:GREGORIAN
BEGIN:VEVENT
DTSTAMP:20260420T175742Z
UID:ae3dae9e-2058-45a4-8db6-d1107c8e2bc6
DTSTART;VALUE=DATE:20260420
DTEND;VALUE=DATE:20260420
DESCRIPTION:Mar 11 - Sep 6\, 2026\nLouis Fratino studied at the Maryland In
 stitute College of Art\, in Baltimore\, which put him within walking dista
 nce of the world’s largest public collection of works by Matisse—over 
 1\,600 paintings\, drawings\, prints\, and illustrated books. He spent a l
 ot of time there\, and the influence shows. Fratino’s paintings of warm 
 domestic interiors\, sleeping figures\, still lifes\, and intimate portrai
 ts of queer love share Matisse’s commitment to light\, pattern\, color\,
  and the radical sufficiency of everyday life. Now the museum has made the
  connection explicit\, pairing about 15 works by each artist—Matisse’s
  Nice-period odalisques and interiors alongside Fratino’s male figures i
 n comparable poses—in a show that Fratino himself helped curate. It is h
 is first major U.S. exhibition.
LOCATION:Baltimore Museum of Art\, 10 Art Museum Dr\, Baltimore\, MD 21218\
 , United States
SUMMARY:Fratino and Matisse: To See This Light Again
URL;VALUE=TEXT:https://airmail.news/arts-intel/events/fratino-and-matisse-t
 o-see-this-light-again
END:VEVENT
END:VCALENDAR
