BEGIN:VCALENDAR
VERSION:2.0
PRODID:icalendar-ruby
CALSCALE:GREGORIAN
BEGIN:VEVENT
DTSTAMP:20260425T162510Z
UID:d8a94541-fc17-48f1-b55d-73bff958cc0e
DTSTART;VALUE=DATE:20260616
DTEND;VALUE=DATE:20260616
DESCRIPTION:Jun 16\, 2026\nMark your calendars! On June 16\, 2027\, Marin A
 lsop strikes up the band for the New York Philharmonic’s second annual C
 elebrate Pride! concert. But don’t let her go stealing the thunder from 
 the top-tier Broadway conductor and arranger Ted Sperling\, who gets the b
 all rolling this year. Tchaikovsky’s on the program with something from 
 Swan Lake. Leonard Bernstein will be heard from\, and also Caroline Shaw. 
 The Great American Songbook\, we’re apprised\, will be well represented.
  Look for star quality in spades from Jenn Colella (whose Broadway credits
  reach from Urban Cowboy to Suffs by way of Chaplin and Come From Away) an
 d Noah J. Ricketts (lately Gatsby’s wide-eyed Nick Carraway)\, with sing
 ing-their-heart-out backups from the New York City Gay Men’s Chorus (Joh
 n J. Atorino\, artistic director).
LOCATION:New York Philharmonic\, 10 Lincoln Center Plaza\, New York\, NY 10
 023\, USA
SUMMARY:Celebrate Pride!
URL;VALUE=TEXT:https://airmail.news/arts-intel/events/celebrate-pride
END:VEVENT
END:VCALENDAR
